BEGIN:VCALENDAR
VERSION:2.0
PRODID:-//Berlinkys - ECPv6.15.20//NONSGML v1.0//EN
CALSCALE:GREGORIAN
METHOD:PUBLISH
X-WR-CALNAME:Berlinkys
X-ORIGINAL-URL:https://berlinkys.com
X-WR-CALDESC:Events for Berlinkys
REFRESH-INTERVAL;VALUE=DURATION:PT1H
X-Robots-Tag:noindex
X-PUBLISHED-TTL:PT1H
BEGIN:VTIMEZONE
TZID:Europe/London
BEGIN:DAYLIGHT
TZOFFSETFROM:+0000
TZOFFSETTO:+0100
TZNAME:BST
DTSTART:20250330T010000
END:DAYLIGHT
BEGIN:STANDARD
TZOFFSETFROM:+0100
TZOFFSETTO:+0000
TZNAME:GMT
DTSTART:20251026T010000
END:STANDARD
BEGIN:DAYLIGHT
TZOFFSETFROM:+0000
TZOFFSETTO:+0100
TZNAME:BST
DTSTART:20260329T010000
END:DAYLIGHT
BEGIN:STANDARD
TZOFFSETFROM:+0100
TZOFFSETTO:+0000
TZNAME:GMT
DTSTART:20261025T010000
END:STANDARD
BEGIN:DAYLIGHT
TZOFFSETFROM:+0000
TZOFFSETTO:+0100
TZNAME:BST
DTSTART:20270328T010000
END:DAYLIGHT
BEGIN:STANDARD
TZOFFSETFROM:+0100
TZOFFSETTO:+0000
TZNAME:GMT
DTSTART:20271031T010000
END:STANDARD
END:VTIMEZONE
BEGIN:VEVENT
DTSTART;TZID=Europe/London:20260503T160000
DTEND;TZID=Europe/London:20260503T190000
DTSTAMP:20260423T111207
CREATED:20260306T112651Z
LAST-MODIFIED:20260330T090039Z
UID:25201-1777824000-1777834800@berlinkys.com
SUMMARY:BingoJamz!
DESCRIPTION:🎉 Welcome to BINGO JAMZ\, your ultimate 90s and 00s RnB fix! Dive into an evening of immersive fun\, games\, prizes\, and those irresistible slow jamz that defined an era. \n🎵 Each participant receives a sheet with classic tracks to match\, turning your bingo experience into a musical journey down memory lane. It’s bingo with a twist\, so brush up on your Boys 2 Men and get ready to sing till the “End of the Road”. \n*🎶 Expect soulful tunes from artists like Mariah Carey\, Usher\, Destiny’s Child\, Alicia Keys\, and more! 🎤* \nBuy Tickets
URL:https://berlinkys.com/event/bingojamz/
LOCATION:Berlinkys\, 396 Sauchiehall Street\, Glasgow\, G2 3JD\, United Kingdom
ATTACH;FMTTYPE=image/png:https://berlinkys.com/wp-content/uploads/2026/03/events-1.png
END:VEVENT
END:VCALENDAR