BEGIN:VCALENDAR
VERSION:2.0
PRODID:-//Berlinkys - ECPv6.15.20//NONSGML v1.0//EN
CALSCALE:GREGORIAN
METHOD:PUBLISH
X-WR-CALNAME:Berlinkys
X-ORIGINAL-URL:https://berlinkys.com
X-WR-CALDESC:Events for Berlinkys
REFRESH-INTERVAL;VALUE=DURATION:PT1H
X-Robots-Tag:noindex
X-PUBLISHED-TTL:PT1H
BEGIN:VTIMEZONE
TZID:Europe/London
BEGIN:DAYLIGHT
TZOFFSETFROM:+0000
TZOFFSETTO:+0100
TZNAME:BST
DTSTART:20250330T010000
END:DAYLIGHT
BEGIN:STANDARD
TZOFFSETFROM:+0100
TZOFFSETTO:+0000
TZNAME:GMT
DTSTART:20251026T010000
END:STANDARD
BEGIN:DAYLIGHT
TZOFFSETFROM:+0000
TZOFFSETTO:+0100
TZNAME:BST
DTSTART:20260329T010000
END:DAYLIGHT
BEGIN:STANDARD
TZOFFSETFROM:+0100
TZOFFSETTO:+0000
TZNAME:GMT
DTSTART:20261025T010000
END:STANDARD
BEGIN:DAYLIGHT
TZOFFSETFROM:+0000
TZOFFSETTO:+0100
TZNAME:BST
DTSTART:20270328T010000
END:DAYLIGHT
BEGIN:STANDARD
TZOFFSETFROM:+0100
TZOFFSETTO:+0000
TZNAME:GMT
DTSTART:20271031T010000
END:STANDARD
END:VTIMEZONE
BEGIN:VEVENT
DTSTART;TZID=Europe/London:20260510T160000
DTEND;TZID=Europe/London:20260510T200000
DTSTAMP:20260421T150403
CREATED:20260306T122423Z
LAST-MODIFIED:20260306T123610Z
UID:25206-1778428800-1778443200@berlinkys.com
SUMMARY:Soul Supper at Berlinkys!
DESCRIPTION:Embark on a nostalgic journey with our immersive dining experience\, paying tribute to the soulful beats of Motown. Indulge in an evening filled with delectable food\, refreshing drinks\, and the iconic tunes inspired by Detroit’s cultural heartbeat that shaped American music. Get ready to groove to the sounds of Marvin Gaye\, Temptations\, Four Tops\, Supremes\, and many more legendary artists! 🎵 \n  \n🎫 Tickets & Seating: \nGeneral Ticket: £64.95pp – Includes a 2-course meal\, welcome drink & show. Entrance for 1. Seated on the ground floor. (Partial view of the stage) \nVIP Ticket: £74.95pp – Features a 2-course meal\, welcome drink\, VIP view & show. Entrance for 1. Located on the tables towards the front. Only VIP tickets will guarantee a clear view of the stage. \nDiscounted Group Ticket (minimum 2 tickets purchased): £59.95pp – 2-course meal\, welcome drink & show. Entrance for 1. A minimum of 2 tickets must be purchased in one transaction. Save £10 total (£5 per ticket). Seated on the ground floor. (Partial view of the stage) \nRestricted View Meal Ticket: £49.95pp – 2-course meal\, welcome drink & show. Entrance for 1. (No view of the stage) \nShow Only Ticket: £39.99 – Welcome drink & show\, no food included. Seated behind the meal tables to the rear of the venue (by the entrance) or on the Level 1 Balcony (Partial view) \n  \nBuy Tickets
URL:https://berlinkys.com/event/soul-supper-at-berlinkys/
LOCATION:Berlinkys\, 396 Sauchiehall Street\, Glasgow\, G2 3JD\, United Kingdom
ATTACH;FMTTYPE=image/png:https://berlinkys.com/wp-content/uploads/2026/03/events.png
END:VEVENT
END:VCALENDAR